BEGIN:VCALENDAR
VERSION:2.0
PRODID:-//Pacific Immigrant Resources Society - ECPv6.3.1//NONSGML v1.0//EN
CALSCALE:GREGORIAN
METHOD:PUBLISH
X-ORIGINAL-URL:https://pirs.bc.ca
X-WR-CALDESC:Events for Pacific Immigrant Resources Society
REFRESH-INTERVAL;VALUE=DURATION:PT1H
X-Robots-Tag:noindex
X-PUBLISHED-TTL:PT1H
BEGIN:VTIMEZONE
TZID:America/Vancouver
BEGIN:DAYLIGHT
TZOFFSETFROM:-0800
TZOFFSETTO:-0700
TZNAME:PDT
DTSTART:20240310T100000
END:DAYLIGHT
BEGIN:STANDARD
TZOFFSETFROM:-0700
TZOFFSETTO:-0800
TZNAME:PST
DTSTART:20241103T090000
END:STANDARD
END:VTIMEZONE
BEGIN:VEVENT
DTSTART;TZID=America/Vancouver:20240125T091500
DTEND;TZID=America/Vancouver:20240125T144500
DTSTAMP:20260419T173056
CREATED:20230816T082841Z
LAST-MODIFIED:20230928T230448Z
UID:10003133-1706174100-1706193900@pirs.bc.ca
SUMMARY:Pathways to Childcare Careers
DESCRIPTION:
URL:https://pirs.bc.ca/event/pathways-to-childcare-careers-267/2024-01-25/
LOCATION:BC
CATEGORIES:Pathways to Childcare Careers
END:VEVENT
BEGIN:VEVENT
DTSTART;TZID=America/Vancouver:20240125T180000
DTEND;TZID=America/Vancouver:20240125T193000
DTSTAMP:20260419T173056
CREATED:20230816T111137Z
LAST-MODIFIED:20230816T111137Z
UID:10003173-1706205600-1706211000@pirs.bc.ca
SUMMARY:Childcare Leadership Group (CLG)
DESCRIPTION:
URL:https://pirs.bc.ca/event/childcare-leadership-group-clg-20/2024-01-25/
LOCATION:BC
CATEGORIES:Childcare Leadership Group
END:VEVENT
END:VCALENDAR